0.0138271262428977
0.000000
0.000000
-0.0138271262428977
-160.775136774237
62.4824600219727
