0.0141447864879261
0.000000
0.000000
-0.0141447864879261
-150.544430819425
63.3518180847168
