0.0131468616832386
0.000000
0.000000
-0.0131468616832386
-139.472058382901
60.4683876037598
