0.0147268399325284
0.000000
0.000000
-0.0147268399325284
-166.29204489968
64.8428802490234
