0.0145454545454545
0.000000
0.000000
-0.0145454545454545
-123.542637218129
38.4119987487793
