0.0145454545454545
0.000000
0.000000
-0.0145454545454545
-124.759640086781
38.8380012512207
