0.0145454545454545
0.000000
0.000000
-0.0145454545454545
-107.192638744007
48.125
