0.0145454545454545
0.000000
0.000000
-0.0145454545454545
-80.0436366688121
47.7560005187988
