0.0145454545454545
0.000000
0.000000
-0.0145454545454545
-100.595638621937
42.9970016479492
