0.0145454545454545
0.000000
0.000000
-0.0145454545454545
-88.6926387440075
34.3980007171631
