0.0145454545454545
0.000000
0.000000
-0.0145454545454545
-115.748638499867
51.4599990844727
