0.0145454545454545
0.000000
0.000000
-0.0145454545454545
-121.998638499867
37.818000793457
