0.0145454545454545
0.000000
0.000000
-0.0145454545454545
-104.855633128773
35.371000289917
