0.0145454545454545
0.000000
0.000000
-0.0145454545454545
-98.2046397816051
36.451000213623
