0.0145454545454545
0.000000
0.000000
-0.0145454545454545
-97.7636378895153
41.2350006103516
