0.0145454545454545
0.000000
0.000000
-0.0145454545454545
-86.0866359363903
42.3110008239746
