0.0145454545454545
0.000000
0.000000
-0.0145454545454545
-112.840633739125
47.0660018920898
