0.0145454545454545
0.000000
0.000000
-0.0145454545454545
-93.1356395374645
41.068000793457
