0.0145454545454545
0.000000
0.000000
-0.0145454545454545
-121.98963581432
51.6809997558594
