0.0145454545454545
0.000000
0.000000
-0.0145454545454545
-100.729633678089
45.3199996948242
