0.0145454545454545
0.000000
0.000000
-0.0145454545454545
-90.1536372791637
36.5369987487793
