0.0145454545454545
0.000000
0.000000
-0.0145454545454545
-101.688633311879
51.5279998779297
