0.0145454545454545
0.000000
0.000000
-0.0145454545454545
-116.810634959828
45.2630004882813
