0.0145454545454545
0.000000
0.000000
-0.0145454545454545
-87.7656367908825
40.1679992675781
