0.0145454545454545
0.000000
0.000000
-0.0145454545454545
-91.9116328846325
50.5309982299805
