0.0145454545454545
0.000000
0.000000
-0.0145454545454545
-97.9286388050426
48.8489990234375
