0.0145454545454545
0.000000
0.000000
-0.0145454545454545
-85.0176356922496
32.113000869751
