0.0145454545454545
0.000000
0.000000
-0.0145454545454545
-105.227634776722
52.3930015563965
