0.0145454545454545
0.000000
0.000000
-0.0145454545454545
-127.079639781605
46.0810012817383
