0.0145454545454545
0.000000
0.000000
-0.0145454545454545
-106.552639354359
35.943000793457
