0.0145454545454545
0.000000
0.000000
-0.0145454545454545
-81.8416331898082
42.9749984741211
