0.0145454545454545
0.000000
0.000000
-0.0145454545454545
-82.7926372181285
37.9889984130859
