0.0145454545454545
0.000000
0.000000
-0.0145454545454545
-95.0466350208629
42.6990013122559
