0.0145454545454545
0.000000
0.000000
-0.0145454545454545
-92.448635448109
45.6040000915527
