0.0145454545454545
0.000000
0.000000
-0.0145454545454545
-104.939632762562
45.9580001831055
