0.0145454545454545
0.000000
0.000000
-0.0145454545454545
-97.5796397816051
34.125
