0.0145454545454545
0.000000
0.000000
-0.0145454545454545
-106.177639354359
37.6539993286133
