0.0145454545454545
0.000000
0.000000
-0.0145454545454545
-90.0636333118785
45.359001159668
