0.0145454545454545
0.000000
0.000000
-0.0145454545454545
-116.033634532582
37.2890014648438
