0.0145454545454545
0.000000
0.000000
-0.0145454545454545
-90.6436351429332
43.7080001831055
