0.0145454545454545
0.000000
0.000000
-0.0145454545454545
-88.1856349598278
43.4199981689453
