0.0145454545454545
0.000000
0.000000
-0.0145454545454545
-117.224636424672
41.5909996032715
