0.0145454545454545
0.000000
0.000000
-0.0145454545454545
-101.806637157093
41.6539993286133
