0.0145454545454545
0.000000
0.000000
-0.0145454545454545
-91.6486400257457
40.7369995117188
