0.0145454545454546
0.000000
0.000000
-0.0145454545454546
-161.546635020863
25.1359996795654
