0.0145454545454545
0.000000
0.000000
-0.0145454545454545
-74.620640147816
47.890998840332
