0.0145454545454545
0.000000
0.000000
-0.0145454545454545
-92.6926387440075
37.8969993591309
