0.0145454545454545
0.000000
0.000000
-0.0145454545454545
-89.9086345325817
46.8940010070801
