0.0145454545454545
0.000000
0.000000
-0.0145454545454545
-101.7466395985
34.7220001220703
