0.0145454545454545
0.000000
0.000000
-0.0145454545454545
-92.4746364246715
48.4980010986328
